Package: PDATK Version: 1.15.0 Command: rm -rf PDATK.buildbin-libdir && mkdir PDATK.buildbin-libdir && E:\biocbuild\bbs-3.21-bioc\R\bin\R.exe CMD INSTALL --build --library=PDATK.buildbin-libdir PDATK_1.15.0.tar.gz StartedAt: 2025-02-13 08:31:50 -0500 (Thu, 13 Feb 2025) EndedAt: 2025-02-13 08:33:58 -0500 (Thu, 13 Feb 2025) EllapsedTime: 128.4 seconds RetCode: 0 Status: OK PackageFile: PDATK_1.15.0.zip PackageFileSize: 2.554 MiB