Package: PDATK Version: 1.15.0 Command: E:\biocbuild\bbs-3.21-bioc\R\bin\R.exe CMD check --no-multiarch --install=check:PDATK.install-out.txt --library=E:\biocbuild\bbs-3.21-bioc\R\library --no-vignettes --timings PDATK_1.15.0.tar.gz StartedAt: 2025-02-10 03:58:14 -0500 (Mon, 10 Feb 2025) EndedAt: 2025-02-10 04:04:55 -0500 (Mon, 10 Feb 2025) EllapsedTime: 400.5 seconds RetCode: 0 Status: WARNINGS CheckDir: PDATK.Rcheck Warnings: 2