Package: PECA Version: 1.43.0 Command: rm -rf PECA.buildbin-libdir && mkdir PECA.buildbin-libdir && E:\biocbuild\bbs-3.21-bioc\R\bin\R.exe CMD INSTALL --build --library=PECA.buildbin-libdir PECA_1.43.0.tar.gz StartedAt: 2025-02-13 08:32:07 -0500 (Thu, 13 Feb 2025) EndedAt: 2025-02-13 08:32:39 -0500 (Thu, 13 Feb 2025) EllapsedTime: 31.5 seconds RetCode: 0 Status: OK PackageFile: PECA_1.43.0.zip PackageFileSize: 138.8 KiB