Package: PECA Version: 1.43.0 Command: chmod a+r PECA -R && E:\biocbuild\bbs-3.21-bioc\R\bin\R.exe CMD build --keep-empty-dirs --no-resave-data PECA StartedAt: 2025-02-12 20:45:45 -0500 (Wed, 12 Feb 2025) EndedAt: 2025-02-12 20:46:36 -0500 (Wed, 12 Feb 2025) EllapsedTime: 50.8 seconds RetCode: 0 Status: OK PackageFile: PECA_1.43.0.tar.gz PackageFileSize: 127.2 KiB