Package: PICB Version: 0.99.14 Maintainer: Franziska Ahrend MaintainerEmail: haase-lab-bioinfo at nih.gov git_url: https://git.bioconductor.org/packages/PICB git_branch: devel git_last_commit: f2051bc git_last_commit_date: 2025-01-24 13:38:29 -0500 (Fri, 24 Jan 2025)