Package: PICB Version: 0.99.14 Command: rm -rf PICB.buildbin-libdir && mkdir PICB.buildbin-libdir && /Users/biocbuild/BBS/utils/build-universal.sh PICB_0.99.14.tar.gz /Library/Frameworks/R.framework/Resources/bin/R PICB.buildbin-libdir StartedAt: 2025-02-03 23:00:55 -0500 (Mon, 03 Feb 2025) EndedAt: 2025-02-03 23:00:57 -0500 (Mon, 03 Feb 2025) EllapsedTime: 2.0 seconds RetCode: 0 Status: OK PackageFile: PICB_0.99.14.tgz PackageFileSize: 4.687 MiB