Package: PICB Version: 0.99.15 Command: /Library/Frameworks/R.framework/Resources/bin/R CMD build --keep-empty-dirs --no-resave-data PICB StartedAt: 2025-02-09 17:15:10 -0500 (Sun, 09 Feb 2025) EndedAt: 2025-02-09 17:15:50 -0500 (Sun, 09 Feb 2025) EllapsedTime: 40.5 seconds RetCode: 0 Status: OK PackageFile: PICB_0.99.15.tar.gz PackageFileSize: 4.678 MiB