Package: PICB Version: 0.99.15 Command: /Library/Frameworks/R.framework/Resources/bin/R CMD check --install=check:PICB.install-out.txt --library=/Library/Frameworks/R.framework/Resources/library --no-vignettes --timings PICB_0.99.15.tar.gz StartedAt: 2025-02-09 20:40:02 -0500 (Sun, 09 Feb 2025) EndedAt: 2025-02-09 20:43:58 -0500 (Sun, 09 Feb 2025) EllapsedTime: 235.8 seconds RetCode: 0 Status: OK CheckDir: PICB.Rcheck Warnings: 0