Package: PICB Version: 0.99.14 Command: /Library/Frameworks/R.framework/Resources/bin/R CMD build --keep-empty-dirs --no-resave-data PICB StartedAt: 2025-02-04 17:51:03 -0500 (Tue, 04 Feb 2025) EndedAt: 2025-02-04 17:52:52 -0500 (Tue, 04 Feb 2025) EllapsedTime: 108.6 seconds RetCode: 0 Status: OK PackageFile: PICB_0.99.14.tar.gz PackageFileSize: 4.677 MiB