Package: PICB Version: 0.99.14 Command: /Library/Frameworks/R.framework/Resources/bin/R CMD INSTALL PICB StartedAt: 2025-02-04 15:41:03 -0500 (Tue, 04 Feb 2025) EndedAt: 2025-02-04 15:41:07 -0500 (Tue, 04 Feb 2025) EllapsedTime: 3.7 seconds RetCode: 0 Status: OK