Package: PICB Version: 0.99.15 Command: /home/biocbuild/bbs-3.21-bioc/R/bin/R CMD INSTALL PICB StartedAt: 2025-02-09 15:26:51 -0500 (Sun, 09 Feb 2025) EndedAt: 2025-02-09 15:26:54 -0500 (Sun, 09 Feb 2025) EllapsedTime: 2.6 seconds RetCode: 0 Status: OK