Package: PICB Version: 0.99.15 Command: rm -rf PICB.buildbin-libdir && mkdir PICB.buildbin-libdir && E:\biocbuild\bbs-3.21-bioc\R\bin\R.exe CMD INSTALL --build --library=PICB.buildbin-libdir PICB_0.99.15.tar.gz StartedAt: 2025-02-10 08:23:11 -0500 (Mon, 10 Feb 2025) EndedAt: 2025-02-10 08:23:23 -0500 (Mon, 10 Feb 2025) EllapsedTime: 12.2 seconds RetCode: 0 Status: OK PackageFile: PICB_0.99.15.zip PackageFileSize: 4.622 MiB