Package: PICB Version: 0.99.14 Command: chmod a+r PICB -R && E:\biocbuild\bbs-3.21-bioc\R\bin\R.exe CMD build --keep-empty-dirs --no-resave-data PICB StartedAt: 2025-02-03 20:58:10 -0500 (Mon, 03 Feb 2025) EndedAt: 2025-02-03 21:00:02 -0500 (Mon, 03 Feb 2025) EllapsedTime: 111.9 seconds RetCode: 0 Status: OK PackageFile: PICB_0.99.14.tar.gz PackageFileSize: 4.609 MiB