Package: PICS Version: 2.51.0 Command: /home/biocbuild/R/R/bin/R CMD INSTALL PICS StartedAt: 2025-01-29 19:48:36 -0000 (Wed, 29 Jan 2025) EndedAt: 2025-01-29 19:48:41 -0000 (Wed, 29 Jan 2025) EllapsedTime: 5.1 seconds RetCode: 1 Status: ERROR