Package: PICS Version: 2.51.0 Command: /home/biocbuild/bbs-3.21-bioc/R/bin/R CMD build --keep-empty-dirs --no-resave-data PICS StartedAt: 2025-02-09 18:40:07 -0500 (Sun, 09 Feb 2025) EndedAt: 2025-02-09 18:40:10 -0500 (Sun, 09 Feb 2025) EllapsedTime: 3.0 seconds RetCode: 1 Status: ERROR PackageFile: None PackageFileSize: NA