Package: PICS Version: 2.51.0 Command: /home/biocbuild/bbs-3.21-bioc/R/bin/R CMD INSTALL PICS StartedAt: 2025-02-09 15:26:54 -0500 (Sun, 09 Feb 2025) EndedAt: 2025-02-09 15:26:57 -0500 (Sun, 09 Feb 2025) EllapsedTime: 3.3 seconds RetCode: 1 Status: ERROR