Package: PICS Version: 2.51.0 Command: rm -rf PICS.buildbin-libdir && mkdir PICS.buildbin-libdir && E:\biocbuild\bbs-3.21-bioc\R\bin\R.exe CMD INSTALL --build --library=PICS.buildbin-libdir PICS_2.51.0.tar.gz StartedAt: 2025-01-22 08:15:55 -0500 (Wed, 22 Jan 2025) EndedAt: 2025-01-22 08:17:05 -0500 (Wed, 22 Jan 2025) EllapsedTime: 70.1 seconds RetCode: 0 Status: OK PackageFile: PICS_2.51.0.zip PackageFileSize: 1.481 MiB