Package: PICS Version: 2.51.0 Command: E:\biocbuild\bbs-3.21-bioc\R\bin\R.exe CMD INSTALL PICS StartedAt: 2025-02-09 16:13:26 -0500 (Sun, 09 Feb 2025) EndedAt: 2025-02-09 16:13:42 -0500 (Sun, 09 Feb 2025) EllapsedTime: 15.6 seconds RetCode: 1 Status: ERROR