Package: PIPETS Version: 1.3.0 Command: rm -rf PIPETS.buildbin-libdir && mkdir PIPETS.buildbin-libdir && /Users/biocbuild/BBS/utils/build-universal.sh PIPETS_1.3.0.tar.gz /Library/Frameworks/R.framework/Resources/bin/R PIPETS.buildbin-libdir StartedAt: 2025-02-09 22:25:15 -0500 (Sun, 09 Feb 2025) EndedAt: 2025-02-09 22:25:22 -0500 (Sun, 09 Feb 2025) EllapsedTime: 6.1 seconds RetCode: 0 Status: OK PackageFile: PIPETS_1.3.0.tgz PackageFileSize: 1.312 MiB