Package: PIPETS Version: 1.3.0 Command: /Library/Frameworks/R.framework/Resources/bin/R CMD check --install=check:PIPETS.install-out.txt --library=/Library/Frameworks/R.framework/Resources/library --no-vignettes --timings PIPETS_1.3.0.tar.gz StartedAt: 2025-02-09 20:40:28 -0500 (Sun, 09 Feb 2025) EndedAt: 2025-02-09 20:40:59 -0500 (Sun, 09 Feb 2025) EllapsedTime: 31.4 seconds RetCode: 0 Status: OK CheckDir: PIPETS.Rcheck Warnings: 0