Package: PIPETS Version: 1.3.0 Command: /Library/Frameworks/R.framework/Resources/bin/R CMD INSTALL PIPETS StartedAt: 2025-02-09 15:04:53 -0500 (Sun, 09 Feb 2025) EndedAt: 2025-02-09 15:04:57 -0500 (Sun, 09 Feb 2025) EllapsedTime: 4.5 seconds RetCode: 0 Status: OK