Package: PIPETS Version: 1.3.0 Command: chmod a+r PIPETS -R && E:\biocbuild\bbs-3.21-bioc\R\bin\R.exe CMD build --keep-empty-dirs --no-resave-data PIPETS StartedAt: 2025-02-09 20:45:46 -0500 (Sun, 09 Feb 2025) EndedAt: 2025-02-09 20:46:12 -0500 (Sun, 09 Feb 2025) EllapsedTime: 25.7 seconds RetCode: 0 Status: OK PackageFile: PIPETS_1.3.0.tar.gz PackageFileSize: 2.882 MiB