Package: PIPETS Version: 1.3.0 Command: E:\biocbuild\bbs-3.21-bioc\R\bin\R.exe CMD INSTALL PIPETS StartedAt: 2025-02-09 15:42:18 -0500 (Sun, 09 Feb 2025) EndedAt: 2025-02-09 15:42:31 -0500 (Sun, 09 Feb 2025) EllapsedTime: 13.7 seconds RetCode: 0 Status: OK