Package: PIUMA Version: 1.3.0 Command: /Library/Frameworks/R.framework/Resources/bin/R CMD build --keep-empty-dirs --no-resave-data PIUMA StartedAt: 2025-02-09 17:15:26 -0500 (Sun, 09 Feb 2025) EndedAt: 2025-02-09 17:16:00 -0500 (Sun, 09 Feb 2025) EllapsedTime: 33.4 seconds RetCode: 0 Status: OK PackageFile: PIUMA_1.3.0.tar.gz PackageFileSize: 3.976 MiB