Package: PIUMA Version: 1.3.0 Command: /Library/Frameworks/R.framework/Resources/bin/R CMD check --install=check:PIUMA.install-out.txt --library=/Library/Frameworks/R.framework/Resources/library --no-vignettes --timings PIUMA_1.3.0.tar.gz StartedAt: 2025-02-09 20:40:41 -0500 (Sun, 09 Feb 2025) EndedAt: 2025-02-09 20:42:00 -0500 (Sun, 09 Feb 2025) EllapsedTime: 79.0 seconds RetCode: 0 Status: WARNINGS CheckDir: PIUMA.Rcheck Warnings: 1