Package: PIUMA Version: 1.3.0 Command: /Library/Frameworks/R.framework/Resources/bin/R CMD INSTALL PIUMA StartedAt: 2025-02-09 15:15:44 -0500 (Sun, 09 Feb 2025) EndedAt: 2025-02-09 15:15:55 -0500 (Sun, 09 Feb 2025) EllapsedTime: 10.8 seconds RetCode: 0 Status: OK