Package: PIUMA Version: 1.3.0 Command: rm -rf PIUMA.buildbin-libdir && mkdir PIUMA.buildbin-libdir && /Users/biocbuild/BBS/utils/build-universal.sh PIUMA_1.3.0.tar.gz /Library/Frameworks/R.framework/Resources/bin/R PIUMA.buildbin-libdir StartedAt: 2025-02-05 00:54:29 -0500 (Wed, 05 Feb 2025) EndedAt: 2025-02-05 00:55:09 -0500 (Wed, 05 Feb 2025) EllapsedTime: 40.4 seconds RetCode: 0 Status: OK PackageFile: PIUMA_1.3.0.tgz PackageFileSize: 3.337 MiB