Package: PIUMA Version: 1.3.0 Command: /Library/Frameworks/R.framework/Resources/bin/R CMD check --install=check:PIUMA.install-out.txt --library=/Library/Frameworks/R.framework/Resources/library --no-vignettes --timings PIUMA_1.3.0.tar.gz StartedAt: 2025-02-04 22:25:43 -0500 (Tue, 04 Feb 2025) EndedAt: 2025-02-04 22:29:42 -0500 (Tue, 04 Feb 2025) EllapsedTime: 239.0 seconds RetCode: 0 Status: WARNINGS CheckDir: PIUMA.Rcheck Warnings: 1