Package: PIUMA Version: 1.3.0 Command: /home/biocbuild/bbs-3.21-bioc/R/bin/R CMD build --keep-empty-dirs --no-resave-data PIUMA StartedAt: 2025-02-09 18:40:20 -0500 (Sun, 09 Feb 2025) EndedAt: 2025-02-09 18:41:46 -0500 (Sun, 09 Feb 2025) EllapsedTime: 86.1 seconds RetCode: 0 Status: OK PackageFile: PIUMA_1.3.0.tar.gz PackageFileSize: 4.167 MiB