Package: PIUMA Version: 1.3.0 Command: /home/biocbuild/bbs-3.21-bioc/R/bin/R CMD check --install=check:PIUMA.install-out.txt --library=/home/biocbuild/bbs-3.21-bioc/R/site-library --timings PIUMA_1.3.0.tar.gz StartedAt: 2025-02-10 01:20:43 -0500 (Mon, 10 Feb 2025) EndedAt: 2025-02-10 01:25:19 -0500 (Mon, 10 Feb 2025) EllapsedTime: 275.4 seconds RetCode: 0 Status: WARNINGS CheckDir: PIUMA.Rcheck Warnings: 1