Package: PIUMA Version: 1.3.0 Command: /home/biocbuild/bbs-3.21-bioc/R/bin/R CMD INSTALL PIUMA StartedAt: 2025-02-09 15:22:34 -0500 (Sun, 09 Feb 2025) EndedAt: 2025-02-09 15:23:02 -0500 (Sun, 09 Feb 2025) EllapsedTime: 27.6 seconds RetCode: 0 Status: OK