Package: PIUMA Version: 1.3.0 Command: chmod a+r PIUMA -R && E:\biocbuild\bbs-3.21-bioc\R\bin\R.exe CMD build --keep-empty-dirs --no-resave-data PIUMA StartedAt: 2025-02-09 20:46:03 -0500 (Sun, 09 Feb 2025) EndedAt: 2025-02-09 20:48:14 -0500 (Sun, 09 Feb 2025) EllapsedTime: 131.0 seconds RetCode: 0 Status: OK PackageFile: PIUMA_1.3.0.tar.gz PackageFileSize: 3.721 MiB