Package: PIUMA Version: 1.3.0 Command: E:\biocbuild\bbs-3.21-bioc\R\bin\R.exe CMD check --no-multiarch --install=check:PIUMA.install-out.txt --library=E:\biocbuild\bbs-3.21-bioc\R\library --no-vignettes --timings PIUMA_1.3.0.tar.gz StartedAt: 2025-02-10 04:07:54 -0500 (Mon, 10 Feb 2025) EndedAt: 2025-02-10 04:12:13 -0500 (Mon, 10 Feb 2025) EllapsedTime: 258.4 seconds RetCode: 0 Status: WARNINGS CheckDir: PIUMA.Rcheck Warnings: 1