Package: PIUMA Version: 1.3.0 Command: E:\biocbuild\bbs-3.21-bioc\R\bin\R.exe CMD INSTALL PIUMA StartedAt: 2025-02-09 16:11:45 -0500 (Sun, 09 Feb 2025) EndedAt: 2025-02-09 16:12:28 -0500 (Sun, 09 Feb 2025) EllapsedTime: 43.2 seconds RetCode: 0 Status: OK