Package: PLSDAbatch Version: 1.3.0 Command: /Library/Frameworks/R.framework/Resources/bin/R CMD build --keep-empty-dirs --no-resave-data PLSDAbatch StartedAt: 2025-02-09 17:15:57 -0500 (Sun, 09 Feb 2025) EndedAt: 2025-02-09 17:16:28 -0500 (Sun, 09 Feb 2025) EllapsedTime: 30.3 seconds RetCode: 0 Status: OK PackageFile: PLSDAbatch_1.3.0.tar.gz PackageFileSize: 1.621 MiB