Package: PLSDAbatch Version: 1.3.0 Command: rm -rf PLSDAbatch.buildbin-libdir && mkdir PLSDAbatch.buildbin-libdir && /Users/biocbuild/BBS/utils/build-universal.sh PLSDAbatch_1.3.0.tar.gz /Library/Frameworks/R.framework/Resources/bin/R PLSDAbatch.buildbin-libdir StartedAt: 2025-02-10 01:08:35 -0500 (Mon, 10 Feb 2025) EndedAt: 2025-02-10 01:09:24 -0500 (Mon, 10 Feb 2025) EllapsedTime: 48.5 seconds RetCode: 0 Status: OK PackageFile: PLSDAbatch_1.3.0.tgz PackageFileSize: 1.65 MiB