Package: PLSDAbatch Version: 1.3.0 Command: /Library/Frameworks/R.framework/Resources/bin/R CMD build --keep-empty-dirs --no-resave-data PLSDAbatch StartedAt: 2025-02-09 17:58:31 -0500 (Sun, 09 Feb 2025) EndedAt: 2025-02-09 18:00:00 -0500 (Sun, 09 Feb 2025) EllapsedTime: 89.3 seconds RetCode: 0 Status: OK PackageFile: PLSDAbatch_1.3.0.tar.gz PackageFileSize: 1.619 MiB