Package: PLSDAbatch Version: 1.3.0 Command: /home/biocbuild/bbs-3.21-bioc/R/bin/R CMD build --keep-empty-dirs --no-resave-data PLSDAbatch StartedAt: 2025-02-09 18:41:04 -0500 (Sun, 09 Feb 2025) EndedAt: 2025-02-09 18:42:21 -0500 (Sun, 09 Feb 2025) EllapsedTime: 77.1 seconds RetCode: 0 Status: OK PackageFile: PLSDAbatch_1.3.0.tar.gz PackageFileSize: 1.624 MiB