Package: PLSDAbatch Version: 1.3.0 Command: /home/biocbuild/bbs-3.21-bioc/R/bin/R CMD INSTALL PLSDAbatch StartedAt: 2025-02-09 15:30:38 -0500 (Sun, 09 Feb 2025) EndedAt: 2025-02-09 15:31:20 -0500 (Sun, 09 Feb 2025) EllapsedTime: 42.1 seconds RetCode: 0 Status: OK