Package: POMA Version: 1.17.6 Maintainer: Pol Castellano-Escuder MaintainerEmail: polcaes at gmail.com git_url: https://git.bioconductor.org/packages/POMA git_branch: devel git_last_commit: 09bb015 git_last_commit_date: 2024-11-26 18:39:32 -0500 (Tue, 26 Nov 2024)