Package: POMA Version: 1.17.6 Command: /Library/Frameworks/R.framework/Resources/bin/R CMD build --keep-empty-dirs --no-resave-data POMA StartedAt: 2025-02-03 17:52:32 -0500 (Mon, 03 Feb 2025) EndedAt: 2025-02-03 17:52:46 -0500 (Mon, 03 Feb 2025) EllapsedTime: 14.1 seconds RetCode: 0 Status: OK PackageFile: POMA_1.17.6.tar.gz PackageFileSize: 2.136 MiB