Package: POMA Version: 1.17.6 Command: /Library/Frameworks/R.framework/Resources/bin/R CMD INSTALL POMA StartedAt: 2025-02-03 15:59:04 -0500 (Mon, 03 Feb 2025) EndedAt: 2025-02-03 15:59:05 -0500 (Mon, 03 Feb 2025) EllapsedTime: 1.4 seconds RetCode: 0 Status: OK