Package: POMA Version: 1.17.6 Command: rm -rf POMA.buildbin-libdir && mkdir POMA.buildbin-libdir && /Users/biocbuild/BBS/utils/build-universal.sh POMA_1.17.6.tar.gz /Library/Frameworks/R.framework/Resources/bin/R POMA.buildbin-libdir StartedAt: 2025-02-10 01:08:46 -0500 (Mon, 10 Feb 2025) EndedAt: 2025-02-10 01:08:54 -0500 (Mon, 10 Feb 2025) EllapsedTime: 8.1 seconds RetCode: 0 Status: OK PackageFile: POMA_1.17.6.tgz PackageFileSize: 2.28 MiB