Package: POMA Version: 1.17.6 Command: /Library/Frameworks/R.framework/Resources/bin/R CMD build --keep-empty-dirs --no-resave-data POMA StartedAt: 2025-02-09 17:59:10 -0500 (Sun, 09 Feb 2025) EndedAt: 2025-02-09 17:59:52 -0500 (Sun, 09 Feb 2025) EllapsedTime: 42.3 seconds RetCode: 0 Status: OK PackageFile: POMA_1.17.6.tar.gz PackageFileSize: 2.131 MiB