Package: POMA Version: 1.17.6 Command: /Library/Frameworks/R.framework/Resources/bin/R CMD check --install=check:POMA.install-out.txt --library=/Library/Frameworks/R.framework/Resources/library --no-vignettes --timings POMA_1.17.6.tar.gz StartedAt: 2025-02-03 22:30:27 -0500 (Mon, 03 Feb 2025) EndedAt: 2025-02-03 22:35:12 -0500 (Mon, 03 Feb 2025) EllapsedTime: 285.7 seconds RetCode: 0 Status: OK CheckDir: POMA.Rcheck Warnings: 0