Package: POMA Version: 1.17.6 Command: /Library/Frameworks/R.framework/Resources/bin/R CMD INSTALL POMA StartedAt: 2025-02-03 15:42:29 -0500 (Mon, 03 Feb 2025) EndedAt: 2025-02-03 15:42:35 -0500 (Mon, 03 Feb 2025) EllapsedTime: 6.3 seconds RetCode: 0 Status: OK