Package: POMA Version: 1.17.6 Command: /home/biocbuild/bbs-3.21-bioc/R/bin/R CMD check --install=check:POMA.install-out.txt --library=/home/biocbuild/bbs-3.21-bioc/R/site-library --timings POMA_1.17.6.tar.gz StartedAt: 2025-02-04 01:31:16 -0500 (Tue, 04 Feb 2025) EndedAt: 2025-02-04 01:36:12 -0500 (Tue, 04 Feb 2025) EllapsedTime: 296.4 seconds RetCode: 0 Status: OK CheckDir: POMA.Rcheck Warnings: 0