Package: POMA Version: 1.17.6 Command: /home/biocbuild/bbs-3.21-bioc/R/bin/R CMD INSTALL POMA StartedAt: 2025-02-03 16:05:38 -0500 (Mon, 03 Feb 2025) EndedAt: 2025-02-03 16:05:43 -0500 (Mon, 03 Feb 2025) EllapsedTime: 4.1 seconds RetCode: 0 Status: OK