Package: POMA Version: 1.17.6 Command: rm -rf POMA.buildbin-libdir && mkdir POMA.buildbin-libdir && E:\biocbuild\bbs-3.21-bioc\R\bin\R.exe CMD INSTALL --build --library=POMA.buildbin-libdir POMA_1.17.6.tar.gz StartedAt: 2025-02-04 08:37:10 -0500 (Tue, 04 Feb 2025) EndedAt: 2025-02-04 08:37:25 -0500 (Tue, 04 Feb 2025) EllapsedTime: 14.7 seconds RetCode: 0 Status: OK PackageFile: POMA_1.17.6.zip PackageFileSize: 1.273 MiB