Package: POMA Version: 1.17.6 Command: chmod a+r POMA -R && E:\biocbuild\bbs-3.21-bioc\R\bin\R.exe CMD build --keep-empty-dirs --no-resave-data POMA StartedAt: 2025-02-09 20:49:41 -0500 (Sun, 09 Feb 2025) EndedAt: 2025-02-09 20:51:25 -0500 (Sun, 09 Feb 2025) EllapsedTime: 104.1 seconds RetCode: 0 Status: OK PackageFile: POMA_1.17.6.tar.gz PackageFileSize: 1.119 MiB